BEGIN:VCALENDAR
VERSION:2.0
PRODID:-//NetAuktion//NONSGML NetAuktion//SV
METHOD:PUBLISH
BEGIN:VEVENT
UID:20260421T104622-873540995-netauktion.se
DTSTAMP:20260421T104622
DTSTART:20190131T055700
DTEND:20190131T060000
SUMMARY:Netauktion objekt 3708-039 Auktionspåminnelse
DESCRIPTION:Länk till objektet du var intresserad av: https://staging.netauktion.se/auktion/produkt/vinkelslip-hitachi-g18dbbal-naken
END:VEVENT
END:VCALENDAR
