BEGIN:VCALENDAR
VERSION:2.0
PRODID:-//NetAuktion//NONSGML NetAuktion//SV
METHOD:PUBLISH
BEGIN:VEVENT
UID:20260421T104353-1794701295-netauktion.se
DTSTAMP:20260421T104353
DTSTART:20080924T012300
DTEND:20080924T012600
SUMMARY:Netauktion objekt 0097-026 Auktionspåminnelse
DESCRIPTION:Länk till objektet du var intresserad av: https://staging.netauktion.se/auktion/produkt/ett-storre-parti-datorer-reparationsobjekt
END:VEVENT
END:VCALENDAR
