BEGIN:VCALENDAR
VERSION:2.0
PRODID:-//NetAuktion//NONSGML NetAuktion//SV
METHOD:PUBLISH
BEGIN:VEVENT
UID:20260421T103032-1031939759-netauktion.se
DTSTAMP:20260421T103032
DTSTART:20091127T022300
DTEND:20091127T022600
SUMMARY:Netauktion objekt 0384-045 Auktionspåminnelse
DESCRIPTION:Länk till objektet du var intresserad av: https://staging.netauktion.se/auktion/produkt/keshan-matta-med-blomstermotiv-11
END:VEVENT
END:VCALENDAR
