BEGIN:VCALENDAR
VERSION:2.0
PRODID:-//NetAuktion//NONSGML NetAuktion//SV
METHOD:PUBLISH
BEGIN:VEVENT
UID:20260421T104318-800105105-netauktion.se
DTSTAMP:20260421T104318
DTSTART:20091127T021600
DTEND:20091127T021900
SUMMARY:Netauktion objekt 0037-070 Auktionspåminnelse
DESCRIPTION:Länk till objektet du var intresserad av: https://staging.netauktion.se/auktion/produkt/ny-vvs-blandare-i-frack-design-2
END:VEVENT
END:VCALENDAR
