BEGIN:VCALENDAR
VERSION:2.0
PRODID:-//NetAuktion//NONSGML NetAuktion//SV
METHOD:PUBLISH
BEGIN:VEVENT
UID:20260421T104400-150620521-netauktion.se
DTSTAMP:20260421T104400
DTSTART:20091127T021700
DTEND:20091127T022000
SUMMARY:Netauktion objekt 0037-089 Auktionspåminnelse
DESCRIPTION:Länk till objektet du var intresserad av: https://staging.netauktion.se/auktion/produkt/ny-vvs-blandare-i-frack-design-9
END:VEVENT
END:VCALENDAR
