BEGIN:VCALENDAR
VERSION:2.0
PRODID:-//NetAuktion//NONSGML NetAuktion//SV
METHOD:PUBLISH
BEGIN:VEVENT
UID:20260421T104533-1355588364-netauktion.se
DTSTAMP:20260421T104533
DTSTART:20091130T005800
DTEND:20091130T010100
SUMMARY:Netauktion objekt 0392-020 Auktionspåminnelse
DESCRIPTION:Länk till objektet du var intresserad av: https://staging.netauktion.se/auktion/produkt/varmepump-foma-for-160m-11
END:VEVENT
END:VCALENDAR
