BEGIN:VCALENDAR
VERSION:2.0
PRODID:-//NetAuktion//NONSGML NetAuktion//SV
METHOD:PUBLISH
BEGIN:VEVENT
UID:20260421T102704-114198243-netauktion.se
DTSTAMP:20260421T102704
DTSTART:20091130T010000
DTEND:20091130T010300
SUMMARY:Netauktion objekt 0392-022 Auktionspåminnelse
DESCRIPTION:Länk till objektet du var intresserad av: https://staging.netauktion.se/auktion/produkt/varmepump-foma-for-160m-20
END:VEVENT
END:VCALENDAR
