BEGIN:VCALENDAR
VERSION:2.0
PRODID:-//NetAuktion//NONSGML NetAuktion//SV
METHOD:PUBLISH
BEGIN:VEVENT
UID:20260421T102852-712393874-netauktion.se
DTSTAMP:20260421T102852
DTSTART:20091130T010800
DTEND:20091130T011100
SUMMARY:Netauktion objekt 0392-027 Auktionspåminnelse
DESCRIPTION:Länk till objektet du var intresserad av: https://staging.netauktion.se/auktion/produkt/varmepump-foma-for-160m-26
END:VEVENT
END:VCALENDAR
