BEGIN:VCALENDAR
VERSION:2.0
PRODID:-//NetAuktion//NONSGML NetAuktion//SV
METHOD:PUBLISH
BEGIN:VEVENT
UID:20260421T104323-1972964070-netauktion.se
DTSTAMP:20260421T104323
DTSTART:20091130T012600
DTEND:20091130T012900
SUMMARY:Netauktion objekt 0394-027 Auktionspåminnelse
DESCRIPTION:Länk till objektet du var intresserad av: https://staging.netauktion.se/auktion/produkt/varmepump-foma-for-200m-26
END:VEVENT
END:VCALENDAR
