BEGIN:VCALENDAR
VERSION:2.0
PRODID:-//NetAuktion//NONSGML NetAuktion//SV
METHOD:PUBLISH
BEGIN:VEVENT
UID:20260421T103129-1060588367-netauktion.se
DTSTAMP:20260421T103129
DTSTART:20100531T013000
DTEND:20100531T013300
SUMMARY:Netauktion objekt 0292-066 Auktionspåminnelse
DESCRIPTION:Länk till objektet du var intresserad av: https://staging.netauktion.se/auktion/produkt/james-butler-konstverk-fran-mivagallery
END:VEVENT
END:VCALENDAR
