BEGIN:VCALENDAR
VERSION:2.0
PRODID:-//NetAuktion//NONSGML NetAuktion//SV
METHOD:PUBLISH
BEGIN:VEVENT
UID:20260421T104355-1422290634-netauktion.se
DTSTAMP:20260421T104355
DTSTART:20090130T025400
DTEND:20090130T025700
SUMMARY:Netauktion objekt 0147-003 Auktionspåminnelse
DESCRIPTION:Länk till objektet du var intresserad av: https://staging.netauktion.se/auktion/produkt/pelarsvangkran-demag-1000kg
END:VEVENT
END:VCALENDAR
