BEGIN:VCALENDAR
VERSION:2.0
PRODID:-//NetAuktion//NONSGML NetAuktion//SV
METHOD:PUBLISH
BEGIN:VEVENT
UID:20260421T104537-1134129235-netauktion.se
DTSTAMP:20260421T104537
DTSTART:20100129T031400
DTEND:20100129T031700
SUMMARY:Netauktion objekt 0441-004 Auktionspåminnelse
DESCRIPTION:Länk till objektet du var intresserad av: https://staging.netauktion.se/auktion/produkt/kopplingar-i-gjutgods-overgangar
END:VEVENT
END:VCALENDAR
