BEGIN:VCALENDAR
VERSION:2.0
PRODID:-//NetAuktion//NONSGML NetAuktion//SV
METHOD:PUBLISH
BEGIN:VEVENT
UID:20260421T104429-1628668154-netauktion.se
DTSTAMP:20260421T104429
DTSTART:20091221T010000
DTEND:20091221T010300
SUMMARY:Netauktion objekt 0392-030 Auktionspåminnelse
DESCRIPTION:Länk till objektet du var intresserad av: https://staging.netauktion.se/auktion/produkt/varmepump-foma-for-160m-36
END:VEVENT
END:VCALENDAR
