BEGIN:VCALENDAR
VERSION:2.0
PRODID:-//NetAuktion//NONSGML NetAuktion//SV
METHOD:PUBLISH
BEGIN:VEVENT
UID:20260421T104457-1150701511-netauktion.se
DTSTAMP:20260421T104457
DTSTART:20091221T010900
DTEND:20091221T011200
SUMMARY:Netauktion objekt 0394-030 Auktionspåminnelse
DESCRIPTION:Länk till objektet du var intresserad av: https://staging.netauktion.se/auktion/produkt/varmepump-foma-for-200m-36
END:VEVENT
END:VCALENDAR
