BEGIN:VCALENDAR
VERSION:2.0
PRODID:-//NetAuktion//NONSGML NetAuktion//SV
METHOD:PUBLISH
BEGIN:VEVENT
UID:20260421T102833-965030838-netauktion.se
DTSTAMP:20260421T102833
DTSTART:20091221T011000
DTEND:20091221T011300
SUMMARY:Netauktion objekt 0394-031 Auktionspåminnelse
DESCRIPTION:Länk till objektet du var intresserad av: https://staging.netauktion.se/auktion/produkt/varmepump-foma-for-200m-35
END:VEVENT
END:VCALENDAR
