BEGIN:VCALENDAR
VERSION:2.0
PRODID:-//NetAuktion//NONSGML NetAuktion//SV
METHOD:PUBLISH
BEGIN:VEVENT
UID:20260421T104433-1861880979-netauktion.se
DTSTAMP:20260421T104433
DTSTART:20091221T011100
DTEND:20091221T011400
SUMMARY:Netauktion objekt 0394-032 Auktionspåminnelse
DESCRIPTION:Länk till objektet du var intresserad av: https://staging.netauktion.se/auktion/produkt/varmepump-foma-for-200m-37
END:VEVENT
END:VCALENDAR
