BEGIN:VCALENDAR
VERSION:2.0
PRODID:-//NetAuktion//NONSGML NetAuktion//SV
METHOD:PUBLISH
BEGIN:VEVENT
UID:20260421T104441-1555139935-netauktion.se
DTSTAMP:20260421T104441
DTSTART:20091221T011200
DTEND:20091221T011500
SUMMARY:Netauktion objekt 0394-035 Auktionspåminnelse
DESCRIPTION:Länk till objektet du var intresserad av: https://staging.netauktion.se/auktion/produkt/varmepump-foma-for-200m-40
END:VEVENT
END:VCALENDAR
