BEGIN:VCALENDAR
VERSION:2.0
PRODID:-//NetAuktion//NONSGML NetAuktion//SV
METHOD:PUBLISH
BEGIN:VEVENT
UID:20260421T104443-275912979-netauktion.se
DTSTAMP:20260421T104443
DTSTART:20091221T012100
DTEND:20091221T012400
SUMMARY:Netauktion objekt 0394-036 Auktionspåminnelse
DESCRIPTION:Länk till objektet du var intresserad av: https://staging.netauktion.se/auktion/produkt/varmepump-foma-for-200m-41
END:VEVENT
END:VCALENDAR
