BEGIN:VCALENDAR
VERSION:2.0
PRODID:-//NetAuktion//NONSGML NetAuktion//SV
METHOD:PUBLISH
BEGIN:VEVENT
UID:20260421T102951-221939522-netauktion.se
DTSTAMP:20260421T102951
DTSTART:20101102T011100
DTEND:20101102T011400
SUMMARY:Netauktion objekt 0385-026 Auktionspåminnelse
DESCRIPTION:Länk till objektet du var intresserad av: https://staging.netauktion.se/auktion/produkt/avfuktare-dry-king-f2-compact-ny-13
END:VEVENT
END:VCALENDAR
