BEGIN:VCALENDAR
VERSION:2.0
PRODID:-//NetAuktion//NONSGML NetAuktion//SV
METHOD:PUBLISH
BEGIN:VEVENT
UID:20260421T103007-325280067-netauktion.se
DTSTAMP:20260421T103007
DTSTART:20101102T013100
DTEND:20101102T013400
SUMMARY:Netauktion objekt 0385-038 Auktionspåminnelse
DESCRIPTION:Länk till objektet du var intresserad av: https://staging.netauktion.se/auktion/produkt/avfuktare-dry-king-f2-compact-ny-19
END:VEVENT
END:VCALENDAR
