BEGIN:VCALENDAR
VERSION:2.0
PRODID:-//NetAuktion//NONSGML NetAuktion//SV
METHOD:PUBLISH
BEGIN:VEVENT
UID:20260421T104443-840285246-netauktion.se
DTSTAMP:20260421T104443
DTSTART:20101102T013500
DTEND:20101102T013800
SUMMARY:Netauktion objekt 0385-042 Auktionspåminnelse
DESCRIPTION:Länk till objektet du var intresserad av: https://staging.netauktion.se/auktion/produkt/avfuktare-dry-king-f2-compact-ny-17
END:VEVENT
END:VCALENDAR
