BEGIN:VCALENDAR
VERSION:2.0
PRODID:-//NetAuktion//NONSGML NetAuktion//SV
METHOD:PUBLISH
BEGIN:VEVENT
UID:20260421T104428-537764920-netauktion.se
DTSTAMP:20260421T104428
DTSTART:20101102T012800
DTEND:20101102T013100
SUMMARY:Netauktion objekt 0385-046 Auktionspåminnelse
DESCRIPTION:Länk till objektet du var intresserad av: https://staging.netauktion.se/auktion/produkt/avfuktare-dry-king-f2-compact-ny-18
END:VEVENT
END:VCALENDAR
