BEGIN:VCALENDAR
VERSION:2.0
PRODID:-//NetAuktion//NONSGML NetAuktion//SV
METHOD:PUBLISH
BEGIN:VEVENT
UID:20260421T104305-1289216570-netauktion.se
DTSTAMP:20260421T104305
DTSTART:20100129T031100
DTEND:20100129T031400
SUMMARY:Netauktion objekt 0441-022 Auktionspåminnelse
DESCRIPTION:Länk till objektet du var intresserad av: https://staging.netauktion.se/auktion/produkt/microstereo-med-cd-sharp-fmc-2244
END:VEVENT
END:VCALENDAR
