BEGIN:VCALENDAR
VERSION:2.0
PRODID:-//NetAuktion//NONSGML NetAuktion//SV
METHOD:PUBLISH
BEGIN:VEVENT
UID:20260421T102706-917731631-netauktion.se
DTSTAMP:20260421T102706
DTSTART:20081028T235900
DTEND:20081029T000200
SUMMARY:Netauktion objekt 0113-003 Auktionspåminnelse
DESCRIPTION:Länk till objektet du var intresserad av: https://staging.netauktion.se/auktion/produkt/handfat-spegel-mm-av-catalano-2
END:VEVENT
END:VCALENDAR
