BEGIN:VCALENDAR
VERSION:2.0
PRODID:-//NetAuktion//NONSGML NetAuktion//SV
METHOD:PUBLISH
BEGIN:VEVENT
UID:20260421T104352-135950102-netauktion.se
DTSTAMP:20260421T104352
DTSTART:20240303T174200
DTEND:20240303T174500
SUMMARY:Netauktion objekt 3729-004 Auktionspåminnelse
DESCRIPTION:Länk till objektet du var intresserad av: https://staging.netauktion.se/auktion/produkt/pro-v3-aao
END:VEVENT
END:VCALENDAR
