BEGIN:VCALENDAR
VERSION:2.0
PRODID:-//NetAuktion//NONSGML NetAuktion//SV
METHOD:PUBLISH
BEGIN:VEVENT
UID:20260421T104352-1137164064-netauktion.se
DTSTAMP:20260421T104352
DTSTART:20081029T000300
DTEND:20081029T000600
SUMMARY:Netauktion objekt 0113-006 Auktionspåminnelse
DESCRIPTION:Länk till objektet du var intresserad av: https://staging.netauktion.se/auktion/produkt/handfat-spegel-underskap-mm-av-catalano
END:VEVENT
END:VCALENDAR
