BEGIN:VCALENDAR
VERSION:2.0
PRODID:-//NetAuktion//NONSGML NetAuktion//SV
METHOD:PUBLISH
BEGIN:VEVENT
UID:20260421T102854-1525497686-netauktion.se
DTSTAMP:20260421T102854
DTSTART:20100129T030500
DTEND:20100129T030800
SUMMARY:Netauktion objekt 0441-048 Auktionspåminnelse
DESCRIPTION:Länk till objektet du var intresserad av: https://staging.netauktion.se/auktion/produkt/ca-17st-rorkroknings-verktyg
END:VEVENT
END:VCALENDAR
