BEGIN:VCALENDAR
VERSION:2.0
PRODID:-//NetAuktion//NONSGML NetAuktion//SV
METHOD:PUBLISH
BEGIN:VEVENT
UID:20260421T104426-1377602054-netauktion.se
DTSTAMP:20260421T104426
DTSTART:20100129T032900
DTEND:20100129T033200
SUMMARY:Netauktion objekt 0441-052 Auktionspåminnelse
DESCRIPTION:Länk till objektet du var intresserad av: https://staging.netauktion.se/auktion/produkt/plathyllor-med-vvs-tillbehor
END:VEVENT
END:VCALENDAR
