BEGIN:VCALENDAR
VERSION:2.0
PRODID:-//NetAuktion//NONSGML NetAuktion//SV
METHOD:PUBLISH
BEGIN:VEVENT
UID:20260421T104323-480014794-netauktion.se
DTSTAMP:20260421T104323
DTSTART:20081029T002500
DTEND:20081029T002800
SUMMARY:Netauktion objekt 0113-027 Auktionspåminnelse
DESCRIPTION:Länk till objektet du var intresserad av: https://staging.netauktion.se/auktion/produkt/fracka-koksskap
END:VEVENT
END:VCALENDAR
