BEGIN:VCALENDAR
VERSION:2.0
PRODID:-//NetAuktion//NONSGML NetAuktion//SV
METHOD:PUBLISH
BEGIN:VEVENT
UID:20260421T104304-333323418-netauktion.se
DTSTAMP:20260421T104304
DTSTART:20100129T033500
DTEND:20100129T033800
SUMMARY:Netauktion objekt 0441-055 Auktionspåminnelse
DESCRIPTION:Länk till objektet du var intresserad av: https://staging.netauktion.se/auktion/produkt/4st-hyllsektioner-med-diverse
END:VEVENT
END:VCALENDAR
