BEGIN:VCALENDAR
VERSION:2.0
PRODID:-//NetAuktion//NONSGML NetAuktion//SV
METHOD:PUBLISH
BEGIN:VEVENT
UID:20260421T102855-1296337292-netauktion.se
DTSTAMP:20260421T102855
DTSTART:20100129T031400
DTEND:20100129T031700
SUMMARY:Netauktion objekt 0369-003 Auktionspåminnelse
DESCRIPTION:Länk till objektet du var intresserad av: https://staging.netauktion.se/auktion/produkt/transporttank-for-diesel-2
END:VEVENT
END:VCALENDAR
