BEGIN:VCALENDAR
VERSION:2.0
PRODID:-//NetAuktion//NONSGML NetAuktion//SV
METHOD:PUBLISH
BEGIN:VEVENT
UID:20260421T102951-147500675-netauktion.se
DTSTAMP:20260421T102951
DTSTART:20100129T031200
DTEND:20100129T031500
SUMMARY:Netauktion objekt 0369-004 Auktionspåminnelse
DESCRIPTION:Länk till objektet du var intresserad av: https://staging.netauktion.se/auktion/produkt/domkrafter-22ton-och-3ton
END:VEVENT
END:VCALENDAR
