BEGIN:VCALENDAR
VERSION:2.0
PRODID:-//NetAuktion//NONSGML NetAuktion//SV
METHOD:PUBLISH
BEGIN:VEVENT
UID:20260421T104426-226158048-netauktion.se
DTSTAMP:20260421T104426
DTSTART:20100129T025300
DTEND:20100129T025600
SUMMARY:Netauktion objekt 0459-043 Auktionspåminnelse
DESCRIPTION:Länk till objektet du var intresserad av: https://staging.netauktion.se/auktion/produkt/diverse-verktyg-samt-verktygsvagn
END:VEVENT
END:VCALENDAR
