BEGIN:VCALENDAR
VERSION:2.0
PRODID:-//NetAuktion//NONSGML NetAuktion//SV
METHOD:PUBLISH
BEGIN:VEVENT
UID:20260421T102953-1117899503-netauktion.se
DTSTAMP:20260421T102953
DTSTART:20100129T025600
DTEND:20100129T025900
SUMMARY:Netauktion objekt 0459-046 Auktionspåminnelse
DESCRIPTION:Länk till objektet du var intresserad av: https://staging.netauktion.se/auktion/produkt/verktygsvagnar-mekpall-pappersrulle
END:VEVENT
END:VCALENDAR
