BEGIN:VCALENDAR
VERSION:2.0
PRODID:-//NetAuktion//NONSGML NetAuktion//SV
METHOD:PUBLISH
BEGIN:VEVENT
UID:20260421T102952-67041928-netauktion.se
DTSTAMP:20260421T102952
DTSTART:20100129T032300
DTEND:20100129T032600
SUMMARY:Netauktion objekt 0441-063 Auktionspåminnelse
DESCRIPTION:Länk till objektet du var intresserad av: https://staging.netauktion.se/auktion/produkt/2st-grasklippare-redskap
END:VEVENT
END:VCALENDAR
