BEGIN:VCALENDAR
VERSION:2.0
PRODID:-//NetAuktion//NONSGML NetAuktion//SV
METHOD:PUBLISH
BEGIN:VEVENT
UID:20260421T104311-1783270304-netauktion.se
DTSTAMP:20260421T104311
DTSTART:20100129T033000
DTEND:20100129T033300
SUMMARY:Netauktion objekt 0441-068 Auktionspåminnelse
DESCRIPTION:Länk till objektet du var intresserad av: https://staging.netauktion.se/auktion/produkt/2st-domkrafter-3-tons
END:VEVENT
END:VCALENDAR
