BEGIN:VCALENDAR
VERSION:2.0
PRODID:-//NetAuktion//NONSGML NetAuktion//SV
METHOD:PUBLISH
BEGIN:VEVENT
UID:20260421T103234-766232073-netauktion.se
DTSTAMP:20260421T103234
DTSTART:20081029T002100
DTEND:20081029T002400
SUMMARY:Netauktion objekt 0120-005 Auktionspåminnelse
DESCRIPTION:Länk till objektet du var intresserad av: https://staging.netauktion.se/auktion/produkt/5st-nya-handfat-for-inbyggnad-10
END:VEVENT
END:VCALENDAR
