BEGIN:VCALENDAR
VERSION:2.0
PRODID:-//NetAuktion//NONSGML NetAuktion//SV
METHOD:PUBLISH
BEGIN:VEVENT
UID:20260421T102932-412048597-netauktion.se
DTSTAMP:20260421T102932
DTSTART:20100129T034100
DTEND:20100129T034400
SUMMARY:Netauktion objekt 0441-071 Auktionspåminnelse
DESCRIPTION:Länk till objektet du var intresserad av: https://staging.netauktion.se/auktion/produkt/ca-10-st-verkstadsskap-i-plat
END:VEVENT
END:VCALENDAR
