BEGIN:VCALENDAR
VERSION:2.0
PRODID:-//NetAuktion//NONSGML NetAuktion//SV
METHOD:PUBLISH
BEGIN:VEVENT
UID:20260421T102804-1847712699-netauktion.se
DTSTAMP:20260421T102804
DTSTART:20100331T012200
DTEND:20100331T012500
SUMMARY:Netauktion objekt 0469-016 Auktionspåminnelse
DESCRIPTION:Länk till objektet du var intresserad av: https://staging.netauktion.se/auktion/produkt/ny-kbc-hjalm-vr-1x-strl-md
END:VEVENT
END:VCALENDAR
