BEGIN:VCALENDAR
VERSION:2.0
PRODID:-//NetAuktion//NONSGML NetAuktion//SV
METHOD:PUBLISH
BEGIN:VEVENT
UID:20260421T104453-87278200-netauktion.se
DTSTAMP:20260421T104453
DTSTART:20100331T013200
DTEND:20100331T013500
SUMMARY:Netauktion objekt 0469-021 Auktionspåminnelse
DESCRIPTION:Länk till objektet du var intresserad av: https://staging.netauktion.se/auktion/produkt/ny-kbc-hjalm-vr-ix-strl-l
END:VEVENT
END:VCALENDAR
