BEGIN:VCALENDAR
VERSION:2.0
PRODID:-//NetAuktion//NONSGML NetAuktion//SV
METHOD:PUBLISH
BEGIN:VEVENT
UID:20260421T104446-859689323-netauktion.se
DTSTAMP:20260421T104446
DTSTART:20100331T015200
DTEND:20100331T015500
SUMMARY:Netauktion objekt 0469-025 Auktionspåminnelse
DESCRIPTION:Länk till objektet du var intresserad av: https://staging.netauktion.se/auktion/produkt/mc-stovlar-spruce-wader-strl-39
END:VEVENT
END:VCALENDAR
