BEGIN:VCALENDAR
VERSION:2.0
PRODID:-//NetAuktion//NONSGML NetAuktion//SV
METHOD:PUBLISH
BEGIN:VEVENT
UID:20260421T104258-1455117477-netauktion.se
DTSTAMP:20260421T104258
DTSTART:20100331T015500
DTEND:20100331T015800
SUMMARY:Netauktion objekt 0469-028 Auktionspåminnelse
DESCRIPTION:Länk till objektet du var intresserad av: https://staging.netauktion.se/auktion/produkt/mc-stovlar-spruce-classic-strl-44-3
END:VEVENT
END:VCALENDAR
