BEGIN:VCALENDAR
VERSION:2.0
PRODID:-//NetAuktion//NONSGML NetAuktion//SV
METHOD:PUBLISH
BEGIN:VEVENT
UID:20260421T102745-284708419-netauktion.se
DTSTAMP:20260421T102745
DTSTART:20100331T015600
DTEND:20100331T015900
SUMMARY:Netauktion objekt 0469-029 Auktionspåminnelse
DESCRIPTION:Länk till objektet du var intresserad av: https://staging.netauktion.se/auktion/produkt/mc-stovlar-spruce-classic-strl-43
END:VEVENT
END:VCALENDAR
