BEGIN:VCALENDAR
VERSION:2.0
PRODID:-//NetAuktion//NONSGML NetAuktion//SV
METHOD:PUBLISH
BEGIN:VEVENT
UID:20260421T102840-190577049-netauktion.se
DTSTAMP:20260421T102840
DTSTART:20100331T015700
DTEND:20100331T020000
SUMMARY:Netauktion objekt 0469-030 Auktionspåminnelse
DESCRIPTION:Länk till objektet du var intresserad av: https://staging.netauktion.se/auktion/produkt/mc-stovlar-spruce-classic-strl-43-3
END:VEVENT
END:VCALENDAR
