BEGIN:VCALENDAR
VERSION:2.0
PRODID:-//NetAuktion//NONSGML NetAuktion//SV
METHOD:PUBLISH
BEGIN:VEVENT
UID:20260421T103033-548776946-netauktion.se
DTSTAMP:20260421T103033
DTSTART:20100331T013600
DTEND:20100331T013900
SUMMARY:Netauktion objekt 0469-055 Auktionspåminnelse
DESCRIPTION:Länk till objektet du var intresserad av: https://staging.netauktion.se/auktion/produkt/nolan-n102-hjalm-strl-l
END:VEVENT
END:VCALENDAR
