BEGIN:VCALENDAR
VERSION:2.0
PRODID:-//NetAuktion//NONSGML NetAuktion//SV
METHOD:PUBLISH
BEGIN:VEVENT
UID:20260421T102832-1411358171-netauktion.se
DTSTAMP:20260421T102832
DTSTART:20100331T013700
DTEND:20100331T014000
SUMMARY:Netauktion objekt 0469-065 Auktionspåminnelse
DESCRIPTION:Länk till objektet du var intresserad av: https://staging.netauktion.se/auktion/produkt/mds-venus-hjalm-strl-l
END:VEVENT
END:VCALENDAR
