BEGIN:VCALENDAR
VERSION:2.0
PRODID:-//NetAuktion//NONSGML NetAuktion//SV
METHOD:PUBLISH
BEGIN:VEVENT
UID:20260421T102840-1714660487-netauktion.se
DTSTAMP:20260421T102840
DTSTART:20100331T014600
DTEND:20100331T014900
SUMMARY:Netauktion objekt 0469-066 Auktionspåminnelse
DESCRIPTION:Länk till objektet du var intresserad av: https://staging.netauktion.se/auktion/produkt/airoh-hjalm-strl-xl
END:VEVENT
END:VCALENDAR
