BEGIN:VCALENDAR
VERSION:2.0
PRODID:-//NetAuktion//NONSGML NetAuktion//SV
METHOD:PUBLISH
BEGIN:VEVENT
UID:20260421T102933-581533397-netauktion.se
DTSTAMP:20260421T102933
DTSTART:20100331T012800
DTEND:20100331T013100
SUMMARY:Netauktion objekt 0469-076 Auktionspåminnelse
DESCRIPTION:Länk till objektet du var intresserad av: https://staging.netauktion.se/auktion/produkt/ny-nolan-n-102-classic-hjalm-strl-m
END:VEVENT
END:VCALENDAR
