BEGIN:VCALENDAR
VERSION:2.0
PRODID:-//NetAuktion//NONSGML NetAuktion//SV
METHOD:PUBLISH
BEGIN:VEVENT
UID:20260421T104443-815364744-netauktion.se
DTSTAMP:20260421T104443
DTSTART:20101102T015100
DTEND:20101102T015400
SUMMARY:Netauktion objekt 0409-308 Auktionspåminnelse
DESCRIPTION:Länk till objektet du var intresserad av: https://staging.netauktion.se/auktion/produkt/centraldammsugare-foma-w12-24
END:VEVENT
END:VCALENDAR
