BEGIN:VCALENDAR
VERSION:2.0
PRODID:-//NetAuktion//NONSGML NetAuktion//SV
METHOD:PUBLISH
BEGIN:VEVENT
UID:20260421T104320-2085654607-netauktion.se
DTSTAMP:20260421T104320
DTSTART:20100224T011900
DTEND:20100224T012200
SUMMARY:Netauktion objekt 0373-065 Auktionspåminnelse
DESCRIPTION:Länk till objektet du var intresserad av: https://staging.netauktion.se/auktion/produkt/40st-erotic-finger-massager-mm-3
END:VEVENT
END:VCALENDAR
